BEGIN:VCALENDAR
VERSION:2.0
PRODID:-//https://www.westhants.ca//NONSGML kigkonsult.se iCalcreator 2.41.71//
CALSCALE:GREGORIAN
METHOD:PUBLISH
UID:34623536-6530-4837-a435-333235656136
X-WR-CALNAME:JCal Pro Calendar
X-WR-CALDESC:Your online events calendar
X-WR-TIMEZONE:America/Halifax
BEGIN:VTIMEZONE
TZID:America/Halifax
TZUNTIL:20271107T050000Z
BEGIN:STANDARD
TZNAME:AST
DTSTART:20251102T020000
TZOFFSETFROM:-0300
TZOFFSETTO:-0400
RDATE:20261101T020000
END:STANDARD
BEGIN:DAYLIGHT
TZNAME:ADT
DTSTART:20260308T020000
TZOFFSETFROM:-0400
TZOFFSETTO:-0300
RDATE:20270314T020000
END:DAYLIGHT
END:VTIMEZONE
BEGIN:VEVENT
UID:20260127T180000UTC-1127ReMolR@https://www.westhants.ca/
DTSTAMP:20260423T031247Z
CATEGORIES:Council Meetings
DESCRIPTION:<p>Council Meetings</p>
DTSTART;TZID=America/Halifax:20260127T180000
DTEND;TZID=America/Halifax:20260127T180000
RRULE:FREQ=MONTHLY;COUNT=24;INTERVAL=1;BYDAY=TU;BYSETPOS=4
SUMMARY:Council Meetings
URL:https://www.westhants.ca/government/council-meeting-calendar/22-council
 -meetings/138-council-meetings.html
X-ALT-DESC;FMTTYPE=TEXT/HTML:<p>Council Meetings</p>
END:VEVENT
BEGIN:VEVENT
UID:20260129T180000UTC-0657mUp3IK@https://www.westhants.ca/
DTSTAMP:20260423T031247Z
CATEGORIES:Committee Meetings
DESCRIPTION:<p>Accessibility Advisory Committee</p>
DTSTART;TZID=America/Halifax:20260129T180000
DTEND;TZID=America/Halifax:20260129T180000
RRULE:FREQ=MONTHLY;COUNT=12;INTERVAL=1;BYDAY=TH;BYSETPOS=4
SUMMARY:Accessibility Advisory Committee
URL:https://www.westhants.ca/government/council-meeting-calendar/24-committ
 ee-meetings/198-accessibility-advisory-committee.html
X-ALT-DESC;FMTTYPE=TEXT/HTML:<p>Accessibility Advisory Committee</p>
END:VEVENT
END:VCALENDAR
