BEGIN:VCALENDAR
VERSION:2.0
PRODID:-//https://www.westhants.ca//NONSGML kigkonsult.se iCalcreator 2.41.71//
CALSCALE:GREGORIAN
METHOD:PUBLISH
UID:62396531-3962-4466-b965-326464323931
X-WR-CALNAME:JCal Pro Calendar
X-WR-CALDESC:Your online events calendar
X-WR-TIMEZONE:America/Halifax
BEGIN:VTIMEZONE
TZID:America/Halifax
TZUNTIL:20271107T050000Z
BEGIN:STANDARD
TZNAME:AST
DTSTART:20251102T020000
TZOFFSETFROM:-0300
TZOFFSETTO:-0400
RDATE:20261101T020000
END:STANDARD
BEGIN:DAYLIGHT
TZNAME:ADT
DTSTART:20260308T020000
TZOFFSETFROM:-0400
TZOFFSETTO:-0300
RDATE:20270314T020000
END:DAYLIGHT
END:VTIMEZONE
BEGIN:VEVENT
UID:20260113T180000UTC-6250aPNlJI@https://www.westhants.ca/
DTSTAMP:20260423T061720Z
CATEGORIES:Council Meetings
DESCRIPTION:<p>Committee of the Whole</p>
DTSTART;TZID=America/Halifax:20260113T180000
DTEND;TZID=America/Halifax:20260113T180000
RRULE:FREQ=MONTHLY;COUNT=24;INTERVAL=1;BYDAY=TU;BYSETPOS=2
SUMMARY:Committee of the Whole
URL:https://www.westhants.ca/government/council-meeting-calendar/22-council
 -meetings/103-committee-of-the-whole.html
X-ALT-DESC;FMTTYPE=TEXT/HTML:<p>Committee of the Whole</p>
END:VEVENT
END:VCALENDAR
